BEGIN:VCALENDAR
VERSION:2.0
PRODID:-//Auburn Memorial Library - ECPv6.15.20//NONSGML v1.0//EN
CALSCALE:GREGORIAN
METHOD:PUBLISH
X-WR-CALNAME:Auburn Memorial Library
X-ORIGINAL-URL:https://auburnmemoriallibrary.com
X-WR-CALDESC:Events for Auburn Memorial Library
REFRESH-INTERVAL;VALUE=DURATION:PT1H
X-Robots-Tag:noindex
X-PUBLISHED-TTL:PT1H
BEGIN:VTIMEZONE
TZID:UTC
BEGIN:STANDARD
TZOFFSETFROM:+0000
TZOFFSETTO:+0000
TZNAME:UTC
DTSTART:20240101T000000
END:STANDARD
END:VTIMEZONE
BEGIN:VEVENT
DTSTART;TZID=UTC:20250214T103000
DTEND;TZID=UTC:20250214T110000
DTSTAMP:20260425T145315
CREATED:20250129T223714Z
LAST-MODIFIED:20250129T223714Z
UID:2370-1739529000-1739530800@auburnmemoriallibrary.com
SUMMARY:Storytime
DESCRIPTION:Children ages 2-5 (still in preschool) are invited to attend and listen to a story and make a simple craft.
URL:https://auburnmemoriallibrary.com/event/storytime-2/
LOCATION:Auburn Memorial Library\, 1810 Courthouse Ave\, Auburn\, NE\, 68305\, United States
END:VEVENT
BEGIN:VEVENT
DTSTART;TZID=UTC:20250208T093000
DTEND;TZID=UTC:20250208T110000
DTSTAMP:20260425T145315
CREATED:20250129T222726Z
LAST-MODIFIED:20250129T222726Z
UID:2364-1739007000-1739012400@auburnmemoriallibrary.com
SUMMARY:Valentine crafts and cookie decorating
DESCRIPTION:Kids 12 and under are invited to attend this come-and-go event.
URL:https://auburnmemoriallibrary.com/event/valentine-crafts-and-cookie-decorating/
LOCATION:Auburn Memorial Library\, 1810 Courthouse Ave\, Auburn\, NE\, 68305\, United States
END:VEVENT
BEGIN:VEVENT
DTSTART;TZID=UTC:20250118T093000
DTEND;TZID=UTC:20250118T110000
DTSTAMP:20260425T145315
CREATED:20250105T174240Z
LAST-MODIFIED:20250105T175345Z
UID:2229-1737192600-1737198000@auburnmemoriallibrary.com
SUMMARY:Build an Animal Workshop
DESCRIPTION:Saturday\, January 18 – 9:30am – 11:00am (come and go as you please) \nAges 15 and under \nYou MUST pre-register. Open until all spots are filled.
URL:https://auburnmemoriallibrary.com/event/20250118/
LOCATION:Auburn Memorial Library\, 1810 Courthouse Ave\, Auburn\, NE\, 68305\, United States
END:VEVENT
END:VCALENDAR