BEGIN:VCALENDAR
VERSION:2.0
PRODID:-//Auburn Memorial Library - ECPv6.15.20//NONSGML v1.0//EN
CALSCALE:GREGORIAN
METHOD:PUBLISH
X-WR-CALNAME:Auburn Memorial Library
X-ORIGINAL-URL:https://auburnmemoriallibrary.com
X-WR-CALDESC:Events for Auburn Memorial Library
REFRESH-INTERVAL;VALUE=DURATION:PT1H
X-Robots-Tag:noindex
X-PUBLISHED-TTL:PT1H
BEGIN:VTIMEZONE
TZID:UTC
BEGIN:STANDARD
TZOFFSETFROM:+0000
TZOFFSETTO:+0000
TZNAME:UTC
DTSTART:20240101T000000
END:STANDARD
END:VTIMEZONE
BEGIN:VEVENT
DTSTART;TZID=UTC:20260423T183000
DTEND;TZID=UTC:20260423T193000
DTSTAMP:20260424T144306
CREATED:20260203T205813Z
LAST-MODIFIED:20260203T205813Z
UID:2477-1776969000-1776972600@auburnmemoriallibrary.com
SUMMARY:An evening with Jim Pipher & Steve Hanson
DESCRIPTION:Steve is a multi-talented musician whose instrumental abilities are known throughout the Midwest. His early career focused on bluegrass and traditional music and he helped found the legendary band\, the Bluegrass Crusade. Steve has won numerous music contests including the National Banjo Championship at the Walnut Valley Festival. Steve recorded and toured with C.W. McCall\, playing on three of his albums and doing all the banjo work in the hit movie\,” Convoy”. \nJim has toured the United States and Canada as a solo artist and as a member of numerous bands including Sour Mash\, the Fab-Tones and the Lightning Bugs. He is a talented songwriter and his original tunes are showcased on two solo recordings\, A Tormented Genius and The Last Tall Tree. Jim works frequently as a session musician and sideman. He has produced and engineered a number of recordings by many of the area’s best musicians. \nJoin us for an amazing evening with these two super talented guys! Sponsored by the Dorothy Blount memorial funds and in conjunction with Auburn Creative District.
URL:https://auburnmemoriallibrary.com/event/an-evening-with-jim-pipher-steve-hanson/
LOCATION:Auburn Memorial Library\, 1810 Courthouse Ave\, Auburn\, NE\, 68305\, United States
ATTACH;FMTTYPE=image/jpeg:https://auburnmemoriallibrary.com/wp-content/uploads/2026/02/Untitled-design-12-e1770152241950.jpg
END:VEVENT
BEGIN:VEVENT
DTSTART;TZID=UTC:20260410T103000
DTEND;TZID=UTC:20260410T110000
DTSTAMP:20260424T144306
CREATED:20260120T220945Z
LAST-MODIFIED:20260120T220945Z
UID:2468-1775817000-1775818800@auburnmemoriallibrary.com
SUMMARY:Storytime
DESCRIPTION:Children ages 2-5 (still in preschool) are invited to attend and listen to a story and make a simple craft. No pre-registation required.
URL:https://auburnmemoriallibrary.com/event/storytime-6/
LOCATION:NE
ATTACH;FMTTYPE=image/jpeg:https://auburnmemoriallibrary.com/wp-content/uploads/2025/04/cute-little-children-reading-a-book-vector-e1745340000747.jpg
END:VEVENT
BEGIN:VEVENT
DTSTART;TZID=UTC:20260326T183000
DTEND;TZID=UTC:20260326T193000
DTSTAMP:20260424T144306
CREATED:20260126T181809Z
LAST-MODIFIED:20260126T181809Z
UID:2474-1774549800-1774553400@auburnmemoriallibrary.com
SUMMARY:An evening with Rich Patton
DESCRIPTION:Join us for an incredible hour of blues\, jazz\, R&B\, country and old-time rock n’ roll from Rich Patton\, the one-man show. Besides singing\, he plays guitar\, blue harmonica\, and tenor saxophone.\nSponsored by the Dorothy Blount memorial funds and in conjunction with Auburn Creative District.
URL:https://auburnmemoriallibrary.com/event/an-evening-with-rich-patton/
LOCATION:Auburn Memorial Library\, 1810 Courthouse Ave\, Auburn\, NE\, 68305\, United States
ATTACH;FMTTYPE=image/jpeg:https://auburnmemoriallibrary.com/wp-content/uploads/2026/01/Untitled-design-11-e1769451460344.jpg
END:VEVENT
BEGIN:VEVENT
DTSTART;TZID=UTC:20260306T103000
DTEND;TZID=UTC:20260306T110000
DTSTAMP:20260424T144306
CREATED:20260120T220900Z
LAST-MODIFIED:20260120T220900Z
UID:2466-1772793000-1772794800@auburnmemoriallibrary.com
SUMMARY:Storytime
DESCRIPTION:Children ages 2-5 (still in preschool) are invited to attend and listen to a story and make a simple craft. No pre-registration required.
URL:https://auburnmemoriallibrary.com/event/storytime-5/
LOCATION:NE
ATTACH;FMTTYPE=image/jpeg:https://auburnmemoriallibrary.com/wp-content/uploads/2025/04/cute-little-children-reading-a-book-vector-e1745340000747.jpg
END:VEVENT
BEGIN:VEVENT
DTSTART;TZID=UTC:20260305T183000
DTEND;TZID=UTC:20260305T193000
DTSTAMP:20260424T144306
CREATED:20260120T220615Z
LAST-MODIFIED:20260120T220615Z
UID:2462-1772735400-1772739000@auburnmemoriallibrary.com
SUMMARY:Nashville Recording Artist Daniel Christian
DESCRIPTION:Award-Winning Singer-Songwriter Daniel Christian blends a pop/rock sensibility with country/folk roots.  He weaves stick-in-your-head melodies backed by big harmonies with thought-provoking lyrical content. Join us for an evening of fantastic music!\nSponsored by the Dorothy Blount memorial funds and in conjunction with Auburn Creative District.
URL:https://auburnmemoriallibrary.com/event/nashville-recording-artist-daniel-christian-2/
LOCATION:Auburn Memorial Library\, 1810 Courthouse Ave\, Auburn\, NE\, 68305\, United States
ATTACH;FMTTYPE=image/jpeg:https://auburnmemoriallibrary.com/wp-content/uploads/2025/01/471828803_10161110077081758_3962261343680054073_n.jpg
END:VEVENT
BEGIN:VEVENT
DTSTART;TZID=UTC:20260207T100000
DTEND;TZID=UTC:20260207T110000
DTSTAMP:20260424T144306
CREATED:20260123T173608Z
LAST-MODIFIED:20260123T173729Z
UID:2470-1770458400-1770462000@auburnmemoriallibrary.com
SUMMARY:A Royal Party
DESCRIPTION:All Prince and Princesses are invited to attend this come-and-go event. Festive crafts and divine treats await!\nRoyal attire is acceptable but not required. Recommended age is 12 and under. \nSponsored by the Dorothy Blount memorial funds.
URL:https://auburnmemoriallibrary.com/event/a-royal-party/
LOCATION:Auburn Memorial Library\, 1810 Courthouse Ave\, Auburn\, NE\, 68305\, United States
ATTACH;FMTTYPE=image/jpeg:https://auburnmemoriallibrary.com/wp-content/uploads/2026/01/Untitled-design-2-e1769189744578.jpg
END:VEVENT
BEGIN:VEVENT
DTSTART;TZID=UTC:20260206T103000
DTEND;TZID=UTC:20260206T110000
DTSTAMP:20260424T144306
CREATED:20260120T220805Z
LAST-MODIFIED:20260120T220805Z
UID:2464-1770373800-1770375600@auburnmemoriallibrary.com
SUMMARY:Storytime
DESCRIPTION:Children ages 2-5 (still in preschool) are invited to attend and listen to a story and make a simple craft. No pre-registration required.
URL:https://auburnmemoriallibrary.com/event/storytime-4/
LOCATION:NE
ATTACH;FMTTYPE=image/jpeg:https://auburnmemoriallibrary.com/wp-content/uploads/2025/04/cute-little-children-reading-a-book-vector-e1745340000747.jpg
END:VEVENT
BEGIN:VEVENT
DTSTART;TZID=UTC:20251106T183000
DTEND;TZID=UTC:20251106T193000
DTSTAMP:20260424T144306
CREATED:20250828T180443Z
LAST-MODIFIED:20250929T193106Z
UID:2452-1762453800-1762457400@auburnmemoriallibrary.com
SUMMARY:An evening with Rich Confer
DESCRIPTION:Rich Confer is a singer/songwriter from Lincoln\, Nebraska\, crafting heartfelt folk-inspired music with a distinct sound that feels both fresh and familiar. Since beginning his musical journey in 2010\, Rich has honed his craft as a writer\, performer\, and recording artist. His work blends introspective lyrics with melodic\, acoustic-driven arrangements. \nSponsored by the Dorothy Blount Memorial Funds and in conjunction with Auburn’s Creative District.
URL:https://auburnmemoriallibrary.com/event/an-evening-with-rich-confer/
LOCATION:Auburn Memorial Library\, 1810 Courthouse Ave\, Auburn\, NE\, 68305\, United States
ATTACH;FMTTYPE=image/jpeg:https://auburnmemoriallibrary.com/wp-content/uploads/2025/08/image0-e1759174250919.jpeg
END:VEVENT
BEGIN:VEVENT
DTSTART;TZID=UTC:20251009T183000
DTEND;TZID=UTC:20251009T193000
DTSTAMP:20260424T144306
CREATED:20250827T211339Z
LAST-MODIFIED:20250827T212302Z
UID:2449-1760034600-1760038200@auburnmemoriallibrary.com
SUMMARY:An evening with Mark Irvin
DESCRIPTION:Join us as we spend an hour with Mark Irvin. Mark was a self-taught musician out of high school and then spent most of the next decade (the 1980’s) working as a musician\, both solo and with several bands. He has written\, recorded and released four albums. His music is sure to be a delight! In conjunction with Auburn’s Creative District and sponsored by the Dorothy Blount Memorial Funds. 
URL:https://auburnmemoriallibrary.com/event/an-evening-with-mark-irvin/
LOCATION:Auburn Memorial Library\, 1810 Courthouse Ave\, Auburn\, NE\, 68305\, United States
ATTACH;FMTTYPE=image/jpeg:https://auburnmemoriallibrary.com/wp-content/uploads/2025/08/Mark-Irvin-e1756329735793.jpg
END:VEVENT
BEGIN:VEVENT
DTSTART;TZID=UTC:20250918T183000
DTEND;TZID=UTC:20250918T193000
DTSTAMP:20260424T144306
CREATED:20250821T211146Z
LAST-MODIFIED:20250821T211146Z
UID:2443-1758220200-1758223800@auburnmemoriallibrary.com
SUMMARY:An evening with singer songwriter Paul Siebert
DESCRIPTION:For over 30 years\, Paul Siebert’s music has delighted thousands throughout the Midwest with his unique style and vast repertoire of popular American music that is second to none. His real passion is in his singer songwriter abilities. He has recorded several of his own songs full of heartfelt stories of family\, childhood\, and growing up in the Midwest. Come spend an evening listening to an amazing performance! \nSponsored by the Dorothy Blount memorial funds and in conjunction with Auburn’s Creative District.
URL:https://auburnmemoriallibrary.com/event/an-evening-with-singer-songwriter-paul-siebert/
LOCATION:Auburn Memorial Library\, 1810 Courthouse Ave\, Auburn\, NE\, 68305\, United States
ATTACH;FMTTYPE=image/jpeg:https://auburnmemoriallibrary.com/wp-content/uploads/2025/08/siebert-resized.jpg
END:VEVENT
BEGIN:VEVENT
DTSTART;TZID=UTC:20250710T103000
DTEND;TZID=UTC:20250710T113000
DTSTAMP:20260424T144306
CREATED:20250508T212112Z
LAST-MODIFIED:20250508T212112Z
UID:2439-1752143400-1752147000@auburnmemoriallibrary.com
SUMMARY:Name Art
DESCRIPTION:Participants will be using tape and paint to create their name on a canvas. \nAges 8 – 18. Pre-registration is required.
URL:https://auburnmemoriallibrary.com/event/name-art/
LOCATION:Auburn Memorial Library\, 1810 Courthouse Ave\, Auburn\, NE\, 68305\, United States
ATTACH;FMTTYPE=image/jpeg:https://auburnmemoriallibrary.com/wp-content/uploads/2025/05/NAME-ART-e1746739219533.jpg
END:VEVENT
BEGIN:VEVENT
DTSTART;TZID=UTC:20250708T130000
DTEND;TZID=UTC:20250708T140000
DTSTAMP:20260424T144306
CREATED:20250508T210939Z
LAST-MODIFIED:20250508T211148Z
UID:2436-1751979600-1751983200@auburnmemoriallibrary.com
SUMMARY:Magician Adam White
DESCRIPTION:All ages are welcome. Sponsored by the Annie Thomas memorial funds.
URL:https://auburnmemoriallibrary.com/event/magician-adam-white/
LOCATION:Auburn Memorial Library\, 1810 Courthouse Ave\, Auburn\, NE\, 68305\, United States
ATTACH;FMTTYPE=image/jpeg:https://auburnmemoriallibrary.com/wp-content/uploads/2025/05/Adam-white-e1746738702811.jpg
END:VEVENT
BEGIN:VEVENT
DTSTART;TZID=UTC:20250626T140000
DTEND;TZID=UTC:20250626T150000
DTSTAMP:20260424T144306
CREATED:20250508T210214Z
LAST-MODIFIED:20250508T210214Z
UID:2433-1750946400-1750950000@auburnmemoriallibrary.com
SUMMARY:Heller Martial Arts Bully Defense Program
DESCRIPTION:
URL:https://auburnmemoriallibrary.com/event/heller-martial-arts-bully-defense-program/
LOCATION:Auburn Memorial Library\, 1810 Courthouse Ave\, Auburn\, NE\, 68305\, United States
ATTACH;FMTTYPE=image/jpeg:https://auburnmemoriallibrary.com/wp-content/uploads/2025/05/Bully-defense-e1746738127690.jpg
END:VEVENT
BEGIN:VEVENT
DTSTART;TZID=UTC:20250626T103000
DTEND;TZID=UTC:20250626T110000
DTSTAMP:20260424T144306
CREATED:20250508T204233Z
LAST-MODIFIED:20250508T210438Z
UID:2421-1750933800-1750935600@auburnmemoriallibrary.com
SUMMARY:2's & 3's Storytime
DESCRIPTION:2 and 3 year olds are invited to join us each Thursday in June at 10:30 am for a short story and easy craft time. Pre-registration is required.
URL:https://auburnmemoriallibrary.com/event/2s-3s-storytime-3/
LOCATION:Auburn Memorial Library\, 1810 Courthouse Ave\, Auburn\, NE\, 68305\, United States
ATTACH;FMTTYPE=image/jpeg:https://auburnmemoriallibrary.com/wp-content/uploads/2025/04/cute-little-children-reading-a-book-vector-e1745340000747.jpg
END:VEVENT
BEGIN:VEVENT
DTSTART;TZID=UTC:20250624T130000
DTEND;TZID=UTC:20250624T140000
DTSTAMP:20260424T144306
CREATED:20250508T205841Z
LAST-MODIFIED:20250508T205841Z
UID:2430-1750770000-1750773600@auburnmemoriallibrary.com
SUMMARY:The String Beans
DESCRIPTION:From pop and country to rap and rock n’ roll\, these goofy guys perform a wide variety of original\, family-friendly songs about all the things kids love: animals\, cartoons\, food\, science\, sports and more! Each show is hilarious\, inclusive and spontaneous\, and each catchy tune is designed to get every audience dancing and singing along! \nAll ages welcome. Sponsored by the Annie Thomas memorial funds.
URL:https://auburnmemoriallibrary.com/event/the-string-beans/
LOCATION:Auburn Memorial Library\, 1810 Courthouse Ave\, Auburn\, NE\, 68305\, United States
ATTACH;FMTTYPE=image/jpeg:https://auburnmemoriallibrary.com/wp-content/uploads/2025/05/the-string-beans-e1746737891547.jpg
END:VEVENT
BEGIN:VEVENT
DTSTART;TZID=UTC:20250619T103000
DTEND;TZID=UTC:20250619T110000
DTSTAMP:20260424T144306
CREATED:20250508T204155Z
LAST-MODIFIED:20250508T210352Z
UID:2419-1750329000-1750330800@auburnmemoriallibrary.com
SUMMARY:2's and 3's Storytime
DESCRIPTION:2 and 3 year olds are invited to join us each Thursday in June at 10:30 am for a short story and easy craft time. Pre-registration is required.
URL:https://auburnmemoriallibrary.com/event/2s-and-3s-storytime/
LOCATION:Auburn Memorial Library\, 1810 Courthouse Ave\, Auburn\, NE\, 68305\, United States
ATTACH;FMTTYPE=image/jpeg:https://auburnmemoriallibrary.com/wp-content/uploads/2025/04/cute-little-children-reading-a-book-vector-e1745340000747.jpg
END:VEVENT
BEGIN:VEVENT
DTSTART;TZID=UTC:20250617T103000
DTEND;TZID=UTC:20250617T113000
DTSTAMP:20260424T144306
CREATED:20250508T205456Z
LAST-MODIFIED:20250508T205456Z
UID:2427-1750156200-1750159800@auburnmemoriallibrary.com
SUMMARY:Let's Imitate Art
DESCRIPTION:Ages 8 – 18. Pre-registration is required. \nParticipants will be doing their “best” to poorly imitate a classic painting!\nThe less talent you have\, the BETTER!
URL:https://auburnmemoriallibrary.com/event/lets-imitate-art/
LOCATION:Auburn Memorial Library\, 1810 Courthouse Ave\, Auburn\, NE\, 68305\, United States
ATTACH;FMTTYPE=image/jpeg:https://auburnmemoriallibrary.com/wp-content/uploads/2025/05/OIP-2-e1746737674249.jpg
END:VEVENT
BEGIN:VEVENT
DTSTART;TZID=UTC:20250612T133000
DTEND;TZID=UTC:20250612T143000
DTSTAMP:20260424T144306
CREATED:20250508T205114Z
LAST-MODIFIED:20250508T205114Z
UID:2423-1749735000-1749738600@auburnmemoriallibrary.com
SUMMARY:"Bad Crafting" Craft Challenge
DESCRIPTION:Ages 8 – 18. Pre-registration is required. \nParticipants will be given a bag with random items to create an art/craft piece within a 30-minute time frame.\nAwards will be given for Bad and Least Bad pieces!
URL:https://auburnmemoriallibrary.com/event/bad-crafting-craft-challenge/
LOCATION:Auburn Memorial Library\, 1810 Courthouse Ave\, Auburn\, NE\, 68305\, United States
END:VEVENT
BEGIN:VEVENT
DTSTART;TZID=UTC:20250612T103000
DTEND;TZID=UTC:20250612T110000
DTSTAMP:20260424T144306
CREATED:20250508T203937Z
LAST-MODIFIED:20250508T210335Z
UID:2414-1749724200-1749726000@auburnmemoriallibrary.com
SUMMARY:2's & 3's Storytime
DESCRIPTION:2 and 3 year olds are invited to join us each Thursday in June at 10:30 am for a short story and easy craft time. Pre-registration is required.
URL:https://auburnmemoriallibrary.com/event/2s-3s-storytime/
LOCATION:Auburn Memorial Library\, 1810 Courthouse Ave\, Auburn\, NE\, 68305\, United States
ATTACH;FMTTYPE=image/jpeg:https://auburnmemoriallibrary.com/wp-content/uploads/2025/04/cute-little-children-reading-a-book-vector-e1745340000747.jpg
END:VEVENT
BEGIN:VEVENT
DTSTART;TZID=UTC:20250605T103000
DTEND;TZID=UTC:20250605T110000
DTSTAMP:20260424T144306
CREATED:20250508T204121Z
LAST-MODIFIED:20250508T210318Z
UID:2417-1749119400-1749121200@auburnmemoriallibrary.com
SUMMARY:2's & 3's Storytime
DESCRIPTION:2 and 3 year olds are invited to join us each Thursday in June at 10:30 am for a short story and easy craft time. Pre-registration is required.
URL:https://auburnmemoriallibrary.com/event/2s-3s-storytime-2/
LOCATION:Auburn Memorial Library\, 1810 Courthouse Ave\, Auburn\, NE\, 68305\, United States
ATTACH;FMTTYPE=image/jpeg:https://auburnmemoriallibrary.com/wp-content/uploads/2025/04/cute-little-children-reading-a-book-vector-e1745340000747.jpg
END:VEVENT
BEGIN:VEVENT
DTSTART;TZID=UTC:20250603T130000
DTEND;TZID=UTC:20250603T140000
DTSTAMP:20260424T144306
CREATED:20250508T203548Z
LAST-MODIFIED:20250508T203548Z
UID:2411-1748955600-1748959200@auburnmemoriallibrary.com
SUMMARY:Wildlife Encounters
DESCRIPTION:Wildlife Encounters will be bringing Animal Ambassadors for an exciting\, interactive\, educational program. They discuss animal adaptations\, history\, geography\, and cool facts about each animal. \nAll ages are welcome to attend. Sponsored by the Annie Thomas memorial funds.
URL:https://auburnmemoriallibrary.com/event/wildlife-encounters/
LOCATION:Auburn Memorial Library\, 1810 Courthouse Ave\, Auburn\, NE\, 68305\, United States
ATTACH;FMTTYPE=image/jpeg:https://auburnmemoriallibrary.com/wp-content/uploads/2025/05/tortoise-big-e1746736533611.jpg
END:VEVENT
BEGIN:VEVENT
DTSTART;VALUE=DATE:20250602
DTEND;VALUE=DATE:20250801
DTSTAMP:20260424T144306
CREATED:20250422T170139Z
LAST-MODIFIED:20250422T170320Z
UID:2404-1748822400-1754006399@auburnmemoriallibrary.com
SUMMARY:Summer\, Sun and Books
DESCRIPTION:Our Summer\, Sun and Books Adult reading program starts on June 2nd and runs through July 31st. Stop in anytime June 2nd or after to get registered!
URL:https://auburnmemoriallibrary.com/event/summer-sun-and-books/
LOCATION:Auburn Memorial Library\, 1810 Courthouse Ave\, Auburn\, NE\, 68305\, United States
ATTACH;FMTTYPE=image/jpeg:https://auburnmemoriallibrary.com/wp-content/uploads/2025/04/SUMMER-SUN-BOOKS-e1745341270130.jpg
END:VEVENT
BEGIN:VEVENT
DTSTART;VALUE=DATE:20250602
DTEND;VALUE=DATE:20250801
DTSTAMP:20260424T144306
CREATED:20250422T165623Z
LAST-MODIFIED:20250422T170224Z
UID:2401-1748822400-1754006399@auburnmemoriallibrary.com
SUMMARY:Youth Reading Adventure
DESCRIPTION:Our Youth Reading Adventure for 6th – 12th GRADE starts June 2nd and runs through July 31st. Stop in anytime June 2nd or after and get signed up!
URL:https://auburnmemoriallibrary.com/event/youth-reading-adventure/
LOCATION:NE
ATTACH;FMTTYPE=image/jpeg:https://auburnmemoriallibrary.com/wp-content/uploads/2025/04/SUMMER-SUN-BOOKS-1-e1745341113329.jpg
END:VEVENT
BEGIN:VEVENT
DTSTART;VALUE=DATE:20250527
DTEND;VALUE=DATE:20250718
DTSTAMP:20260424T144306
CREATED:20250422T163848Z
LAST-MODIFIED:20250422T164722Z
UID:2394-1748304000-1752796799@auburnmemoriallibrary.com
SUMMARY:Summer Reading Program
DESCRIPTION:Our Summer Reading Program for AGE 4 – GRADE 5 starts on Tuesday\, May 27th. Stop in anytime that day or after to get registered!
URL:https://auburnmemoriallibrary.com/event/summer-reading-program/
LOCATION:Auburn Memorial Library\, 1810 Courthouse Ave\, Auburn\, NE\, 68305\, United States
ATTACH;FMTTYPE=image/jpeg:https://auburnmemoriallibrary.com/wp-content/uploads/2025/04/Untitled-design-5-e1745340418705.jpg
END:VEVENT
BEGIN:VEVENT
DTSTART;TZID=UTC:20250405T130000
DTEND;TZID=UTC:20250405T140000
DTSTAMP:20260424T144306
CREATED:20250306T170303Z
LAST-MODIFIED:20250306T170303Z
UID:2389-1743858000-1743861600@auburnmemoriallibrary.com
SUMMARY:Omaha Street Percussion
DESCRIPTION:Join us for a collection of drummers coming together to create a visually appealing\, highly energetic form of drumming\, using only unorthodox forms of percussion. Sponsored by the Dorothy Blount memorial funds.
URL:https://auburnmemoriallibrary.com/event/omaha-street-percussion/
LOCATION:Auburn Memorial Library\, 1810 Courthouse Ave\, Auburn\, NE\, 68305\, United States
ATTACH;FMTTYPE=image/jpeg:https://auburnmemoriallibrary.com/wp-content/uploads/2025/03/Untitled-design-4-e1741280557734.jpg
END:VEVENT
BEGIN:VEVENT
DTSTART;TZID=UTC:20250404T103000
DTEND;TZID=UTC:20250404T110000
DTSTAMP:20260424T144306
CREATED:20250129T223801Z
LAST-MODIFIED:20250129T223801Z
UID:2372-1743762600-1743764400@auburnmemoriallibrary.com
SUMMARY:Storytime
DESCRIPTION:Children ages 2-5 (still in preschool) are invited to attend and listen to a story and make a simple craft.
URL:https://auburnmemoriallibrary.com/event/storytime-3/
LOCATION:Auburn Memorial Library\, 1810 Courthouse Ave\, Auburn\, NE\, 68305\, United States
END:VEVENT
BEGIN:VEVENT
DTSTART;VALUE=DATE:20250322
DTEND;VALUE=DATE:20250323
DTSTAMP:20260424T144306
CREATED:20250226T153703Z
LAST-MODIFIED:20250226T153830Z
UID:2380-1742601600-1742687999@auburnmemoriallibrary.com
SUMMARY:Let's make a Fairy Garden
DESCRIPTION:Ages 6 and older are invited to come make a Fairy Garden! You must pre-register as space is limited. Times to choose from are 9:30 am or 10:00 am. Call or stop by the library to register.
URL:https://auburnmemoriallibrary.com/event/lets-make-a-fairy-garden/
LOCATION:Auburn Memorial Library\, 1810 Courthouse Ave\, Auburn\, NE\, 68305\, United States
END:VEVENT
BEGIN:VEVENT
DTSTART;TZID=UTC:20250307T103000
DTEND;TZID=UTC:20250307T110000
DTSTAMP:20260424T144306
CREATED:20250129T223502Z
LAST-MODIFIED:20250129T223524Z
UID:2368-1741343400-1741345200@auburnmemoriallibrary.com
SUMMARY:Storytime
DESCRIPTION:Children ages 2-5 (still in preschool) are invited to attend and listen to a story and make a simple craft.
URL:https://auburnmemoriallibrary.com/event/storytime/
LOCATION:Auburn Memorial Library\, 1810 Courthouse Ave\, Auburn\, NE\, 68305\, United States
END:VEVENT
BEGIN:VEVENT
DTSTART;TZID=UTC:20250306T190000
DTEND;TZID=UTC:20250306T200000
DTSTAMP:20260424T144306
CREATED:20250129T223041Z
LAST-MODIFIED:20250129T224618Z
UID:2366-1741287600-1741291200@auburnmemoriallibrary.com
SUMMARY:Nashville recording artist Daniel Christian
DESCRIPTION:Award-Winning Singer-Songwriter Daniel Christian blends a pop/rock sensibility with country/folk roots.  He weaves hooky\, stick-in-your-head melodies backed by big harmonies with thought-provoking lyrical content.\nSponsored by the Dorothy Blount memorial funds.
URL:https://auburnmemoriallibrary.com/event/nashville-recording-artist-daniel-christian/
LOCATION:Auburn Memorial Library\, 1810 Courthouse Ave\, Auburn\, NE\, 68305\, United States
ATTACH;FMTTYPE=image/jpeg:https://auburnmemoriallibrary.com/wp-content/uploads/2025/01/471828803_10161110077081758_3962261343680054073_n.jpg
END:VEVENT
BEGIN:VEVENT
DTSTART;TZID=UTC:20250214T103000
DTEND;TZID=UTC:20250214T110000
DTSTAMP:20260424T144306
CREATED:20250129T223714Z
LAST-MODIFIED:20250129T223714Z
UID:2370-1739529000-1739530800@auburnmemoriallibrary.com
SUMMARY:Storytime
DESCRIPTION:Children ages 2-5 (still in preschool) are invited to attend and listen to a story and make a simple craft.
URL:https://auburnmemoriallibrary.com/event/storytime-2/
LOCATION:Auburn Memorial Library\, 1810 Courthouse Ave\, Auburn\, NE\, 68305\, United States
END:VEVENT
END:VCALENDAR